BEGIN:VCALENDAR
VERSION:2.0
PRODID:-//Kaleideum - ECPv6.15.17//NONSGML v1.0//EN
CALSCALE:GREGORIAN
METHOD:PUBLISH
X-ORIGINAL-URL:https://kaleideum.org
X-WR-CALDESC:Events for Kaleideum
REFRESH-INTERVAL;VALUE=DURATION:PT1H
X-Robots-Tag:noindex
X-PUBLISHED-TTL:PT1H
BEGIN:VTIMEZONE
TZID:America/New_York
BEGIN:DAYLIGHT
TZOFFSETFROM:-0500
TZOFFSETTO:-0400
TZNAME:EDT
DTSTART:20230312T070000
END:DAYLIGHT
BEGIN:STANDARD
TZOFFSETFROM:-0400
TZOFFSETTO:-0500
TZNAME:EST
DTSTART:20231105T060000
END:STANDARD
BEGIN:DAYLIGHT
TZOFFSETFROM:-0500
TZOFFSETTO:-0400
TZNAME:EDT
DTSTART:20240310T070000
END:DAYLIGHT
BEGIN:STANDARD
TZOFFSETFROM:-0400
TZOFFSETTO:-0500
TZNAME:EST
DTSTART:20241103T060000
END:STANDARD
BEGIN:DAYLIGHT
TZOFFSETFROM:-0500
TZOFFSETTO:-0400
TZNAME:EDT
DTSTART:20250309T070000
END:DAYLIGHT
BEGIN:STANDARD
TZOFFSETFROM:-0400
TZOFFSETTO:-0500
TZNAME:EST
DTSTART:20251102T060000
END:STANDARD
BEGIN:DAYLIGHT
TZOFFSETFROM:-0500
TZOFFSETTO:-0400
TZNAME:EDT
DTSTART:20260308T070000
END:DAYLIGHT
BEGIN:STANDARD
TZOFFSETFROM:-0400
TZOFFSETTO:-0500
TZNAME:EST
DTSTART:20261101T060000
END:STANDARD
END:VTIMEZONE
BEGIN:VEVENT
DTSTART;TZID=America/New_York:20251101T100000
DTEND;TZID=America/New_York:20251101T163000
DTSTAMP:20260421T170757
CREATED:20251031T194626Z
LAST-MODIFIED:20251128T175610Z
UID:207623-1761991200-1762014600@kaleideum.org
SUMMARY:Try It! Studio Maker Moments
DESCRIPTION:Try your hand at a maker activity in a space where creativity knows no bounds. The recycled material wall will be open Tuesday mornings and Wednesday\, Thursday\, and Friday afternoons. \n\nNov 1-2: Create animated drawings.\nNov 8-9: Experiment with simple machines.\nNov 15-16: Design a balancing animal.\nNov 22: Create a Huey inspired puppet.\nNov 23: Help a turkey escape on a zipline.\nNov 29-30: Gear inspired creations.
URL:https://kaleideum.org/programs/try-it-studio-maker-moments-13/
LOCATION:Kaleideum\, 120 W 3rd Street\, Winston-Salem\, NC\, 27101\, United States
ATTACH;FMTTYPE=image/png:https://kaleideum.org/wp-content/uploads/2024/07/3.png
END:VEVENT
BEGIN:VEVENT
DTSTART;TZID=America/New_York:20251101T113000
DTEND;TZID=America/New_York:20251101T120000
DTSTAMP:20260421T170757
CREATED:20251031T195646Z
LAST-MODIFIED:20251229T162250Z
UID:207629-1761996600-1761998400@kaleideum.org
SUMMARY:Animal Encounter
DESCRIPTION:Meet one of Kaleideum’s resident animals up close. Learn more about its behavior\, adaptations\, care\, and handling from our animal care staff.
URL:https://kaleideum.org/programs/animal-encounter-49/
LOCATION:Kaleideum\, 120 W 3rd Street\, Winston-Salem\, NC\, 27101\, United States
END:VEVENT
BEGIN:VEVENT
DTSTART;TZID=America/New_York:20240901T120000
DTEND;TZID=America/New_York:20240901T123000
DTSTAMP:20260421T170757
CREATED:20240821T183831Z
LAST-MODIFIED:20251229T155140Z
UID:201388-1725192000-1725193800@kaleideum.org
SUMMARY:Live Planetarium Show: Digital Dome
DESCRIPTION:Join us for a traditional planetarium show to explore the stars and planets with our expert guides. Each show is a unique voyage of discovery. The Digital Dome is located on the 2nd floor of Kaleideum. Tickets $3/members; $5 non-members
URL:https://kaleideum.org/programs/live-planetarium-show-digital-dome-3/
LOCATION:Kaleideum\, 120 W 3rd Street\, Winston-Salem\, NC\, 27101\, United States
CATEGORIES:Digital Dome
END:VEVENT
BEGIN:VEVENT
DTSTART;TZID=America/New_York:20251104T130000
DTEND;TZID=America/New_York:20251104T133000
DTSTAMP:20260421T170757
CREATED:20251031T150457Z
LAST-MODIFIED:20251031T150457Z
UID:207592-1762261200-1762263000@kaleideum.org
SUMMARY:Musical Laser Matinee: The Grateful Dead
DESCRIPTION:Join us for the music of The Grateful Dead\, set to our state-of-the-art laser system! Tickets are $3 for members and $5 for non-members.
URL:https://kaleideum.org/programs/musical-laser-matinee-the-grateful-dead/
LOCATION:Kaleideum\, 120 W 3rd Street\, Winston-Salem\, NC\, 27101\, United States
CATEGORIES:Digital Dome
END:VEVENT
BEGIN:VEVENT
DTSTART;TZID=America/New_York:20251101T140000
DTEND;TZID=America/New_York:20251101T143000
DTSTAMP:20260421T170758
CREATED:20251024T134831Z
LAST-MODIFIED:20251126T153537Z
UID:207536-1762005600-1762007400@kaleideum.org
SUMMARY:Zula Patrol\, Under the Weather
DESCRIPTION:When weather is stolen from the planets in our solar system\, the Zula Patrol comes to the rescue! \nLearn about weather processes on Jupiter\, Venus\, Mars\, and the Earth with the lovable gang of aliens called the Zula Patrol. Find out how different (and how similar) weather is on various planets and how it compares with weather on the Earth.
URL:https://kaleideum.org/programs/zula-patrol-under-the-weather-3/
LOCATION:Kaleideum\, 120 W 3rd Street\, Winston-Salem\, NC\, 27101\, United States
CATEGORIES:Digital Dome
END:VEVENT
BEGIN:VEVENT
DTSTART;TZID=America/New_York:20250814T150000
DTEND;TZID=America/New_York:20250814T153000
DTSTAMP:20260421T170758
CREATED:20250814T141312Z
LAST-MODIFIED:20251128T203120Z
UID:206920-1755183600-1755185400@kaleideum.org
SUMMARY:Live Planetarium Show: Digital Dome
DESCRIPTION:Join us for a traditional planetarium show to explore the stars and planets with our expert guides. Each show is a unique voyage of discovery. The Digital Dome is located on the 2nd floor of Kaleideum. Tickets $3/members; $5 non-members
URL:https://kaleideum.org/programs/live-planetarium-show-digital-dome-4/
LOCATION:Kaleideum\, 120 W 3rd Street\, Winston-Salem\, NC\, 27101\, United States
CATEGORIES:Digital Dome
END:VEVENT
BEGIN:VEVENT
DTSTART;TZID=America/New_York:20251108T183000
DTEND;TZID=America/New_York:20251108T213000
DTSTAMP:20260421T170758
CREATED:20251010T144725Z
LAST-MODIFIED:20251013T183923Z
UID:207429-1762626600-1762637400@kaleideum.org
SUMMARY:Kaleideum After Dark: Friendsgiving
DESCRIPTION:There’s a chill in the air\, and the holidays are just around the corner — the perfect time to gather your crew for a night of laughter and fun! November is better with friends\, especially when they’re bringing the jokes\, the improv\, and the unexpected.  \nSpring Theatre takes the lead at this 21+ Kaleideum After Dark\, filling the night with their signature flair through improv games and an open mic that’s all about sharing the spotlight. Come ready to laugh\, cheer\, and maybe even jump in yourself! November’s live music by Drew Holgate. Don’t forget to make a friendship bracelet and sing your heart out at group karaoke in the Digital Dome! \n$20 online | $25 at the door — includes two drink tickets for beer\, wine\, or a non-alcoholic beverage. Grab dinner from the onsite food truck or enjoy 20% off at Hungry Palate Bar & Grill when you show your Kaleideum After Dark ticket! \n\nSponsored by Mast General Store.  \n\nBUY TICKETS
URL:https://kaleideum.org/programs/kaleideum-after-dark-friendsgiving/
LOCATION:Kaleideum\, 120 W 3rd Street\, Winston-Salem\, NC\, 27101\, United States
ATTACH;FMTTYPE=image/jpeg:https://kaleideum.org/wp-content/uploads/2025/10/KAL-AfterDark-2511-Square-1080x1080-1.jpg
END:VEVENT
END:VCALENDAR