BEGIN:VCALENDAR
VERSION:2.0
PRODID:-//Kaleideum - ECPv6.15.17//NONSGML v1.0//EN
CALSCALE:GREGORIAN
METHOD:PUBLISH
X-ORIGINAL-URL:https://kaleideum.org
X-WR-CALDESC:Events for Kaleideum
REFRESH-INTERVAL;VALUE=DURATION:PT1H
X-Robots-Tag:noindex
X-PUBLISHED-TTL:PT1H
BEGIN:VTIMEZONE
TZID:America/New_York
BEGIN:DAYLIGHT
TZOFFSETFROM:-0500
TZOFFSETTO:-0400
TZNAME:EDT
DTSTART:20230312T070000
END:DAYLIGHT
BEGIN:STANDARD
TZOFFSETFROM:-0400
TZOFFSETTO:-0500
TZNAME:EST
DTSTART:20231105T060000
END:STANDARD
BEGIN:DAYLIGHT
TZOFFSETFROM:-0500
TZOFFSETTO:-0400
TZNAME:EDT
DTSTART:20240310T070000
END:DAYLIGHT
BEGIN:STANDARD
TZOFFSETFROM:-0400
TZOFFSETTO:-0500
TZNAME:EST
DTSTART:20241103T060000
END:STANDARD
BEGIN:DAYLIGHT
TZOFFSETFROM:-0500
TZOFFSETTO:-0400
TZNAME:EDT
DTSTART:20250309T070000
END:DAYLIGHT
BEGIN:STANDARD
TZOFFSETFROM:-0400
TZOFFSETTO:-0500
TZNAME:EST
DTSTART:20251102T060000
END:STANDARD
BEGIN:DAYLIGHT
TZOFFSETFROM:-0500
TZOFFSETTO:-0400
TZNAME:EDT
DTSTART:20260308T070000
END:DAYLIGHT
BEGIN:STANDARD
TZOFFSETFROM:-0400
TZOFFSETTO:-0500
TZNAME:EST
DTSTART:20261101T060000
END:STANDARD
END:VTIMEZONE
BEGIN:VEVENT
DTSTART;TZID=America/New_York:20240501T113000
DTEND;TZID=America/New_York:20240501T120000
DTSTAMP:20260422T024340
CREATED:20240429T213828Z
LAST-MODIFIED:20250929T205441Z
UID:199064-1714563000-1714564800@kaleideum.org
SUMMARY:Animal Encounter
DESCRIPTION:Meet one of Kaleideum’s resident animals up close. Learn more about its behavior\, adaptations\, care\, and handling from our animal care staff.
URL:https://kaleideum.org/programs/animal-encounter-48/
LOCATION:120 West Third Street\, 120 West Third Street\, Winston-Salem\, NC\, 27101\, United States
END:VEVENT
BEGIN:VEVENT
DTSTART;TZID=America/New_York:20240901T120000
DTEND;TZID=America/New_York:20240901T123000
DTSTAMP:20260422T024340
CREATED:20240821T183831Z
LAST-MODIFIED:20251229T155140Z
UID:201388-1725192000-1725193800@kaleideum.org
SUMMARY:Live Planetarium Show: Digital Dome
DESCRIPTION:Join us for a traditional planetarium show to explore the stars and planets with our expert guides. Each show is a unique voyage of discovery. The Digital Dome is located on the 2nd floor of Kaleideum. Tickets $3/members; $5 non-members
URL:https://kaleideum.org/programs/live-planetarium-show-digital-dome-3/
LOCATION:Kaleideum\, 120 W 3rd Street\, Winston-Salem\, NC\, 27101\, United States
CATEGORIES:Digital Dome
END:VEVENT
BEGIN:VEVENT
DTSTART;TZID=America/New_York:20250903T133000
DTEND;TZID=America/New_York:20250903T140000
DTSTAMP:20260422T024340
CREATED:20250828T204947Z
LAST-MODIFIED:20251229T163152Z
UID:207099-1756906200-1756908000@kaleideum.org
SUMMARY:Wonder Lab
DESCRIPTION:Unlock the mysteries of fascinating science concepts from color creation to electricity’s essence.
URL:https://kaleideum.org/programs/wonder-lab-10/
LOCATION:Kaleideum\, 120 W 3rd Street\, Winston-Salem\, NC\, 27101\, United States
END:VEVENT
BEGIN:VEVENT
DTSTART;TZID=America/New_York:20251001T140000
DTEND;TZID=America/New_York:20251001T143000
DTSTAMP:20260422T024340
CREATED:20250916T144925Z
LAST-MODIFIED:20250916T144925Z
UID:207208-1759327200-1759329000@kaleideum.org
SUMMARY:Universe
DESCRIPTION:Embark on a fascinating journey through history as we explore humanity’s evolving understanding of the universe. Discover ancient astronomical sites and remarkable structures while taking a breathtaking glimpse into the cosmos.
URL:https://kaleideum.org/programs/universe/
LOCATION:Kaleideum\, 120 W 3rd Street\, Winston-Salem\, NC\, 27101\, United States
CATEGORIES:Digital Dome
END:VEVENT
BEGIN:VEVENT
DTSTART;TZID=America/New_York:20250814T150000
DTEND;TZID=America/New_York:20250814T153000
DTSTAMP:20260422T024340
CREATED:20250814T141312Z
LAST-MODIFIED:20251128T203120Z
UID:206920-1755183600-1755185400@kaleideum.org
SUMMARY:Live Planetarium Show: Digital Dome
DESCRIPTION:Join us for a traditional planetarium show to explore the stars and planets with our expert guides. Each show is a unique voyage of discovery. The Digital Dome is located on the 2nd floor of Kaleideum. Tickets $3/members; $5 non-members
URL:https://kaleideum.org/programs/live-planetarium-show-digital-dome-4/
LOCATION:Kaleideum\, 120 W 3rd Street\, Winston-Salem\, NC\, 27101\, United States
CATEGORIES:Digital Dome
END:VEVENT
BEGIN:VEVENT
DTSTART;TZID=America/New_York:20251008T153000
DTEND;TZID=America/New_York:20251008T163000
DTSTAMP:20260422T024340
CREATED:20250929T144550Z
LAST-MODIFIED:20250929T144735Z
UID:207326-1759937400-1759941000@kaleideum.org
SUMMARY:Little Innovators: Pumpkin Palooza
DESCRIPTION:It’s gi-GOURD-ness fun to investigate pumpkins inside and out. We’ll make pumpkin slime\, paint with pumpkins\, and build a pumpkin catapult! \n$5 per ticket. (Ticket includes one adult with one Pre-K Innovator. Adult must attend with child.) Museum admission is not included. \nCLICK HERE TO REGISTER
URL:https://kaleideum.org/programs/little-innovators-pumpkin-palooza/
LOCATION:Kaleideum\, 120 W 3rd Street\, Winston-Salem\, NC\, 27101\, United States
ATTACH;FMTTYPE=image/png:https://kaleideum.org/wp-content/uploads/2025/07/pumpkin-catapult.png
END:VEVENT
BEGIN:VEVENT
DTSTART;TZID=America/New_York:20250828T091500
DTEND;TZID=America/New_York:20250828T120000
DTSTAMP:20260422T024340
CREATED:20250828T205458Z
LAST-MODIFIED:20250929T210345Z
UID:207102-1756372500-1756382400@kaleideum.org
SUMMARY:Curiosity Cart
DESCRIPTION:Spark your curiosity through arts and crafts\, museum collections\, science\, and more.
URL:https://kaleideum.org/programs/curiosity-cart-27/
LOCATION:Kaleideum\, 120 W 3rd Street\, Winston-Salem\, NC\, 27101\, United States
END:VEVENT
BEGIN:VEVENT
DTSTART;TZID=America/New_York:20251009T103000
DTEND;TZID=America/New_York:20251009T113000
DTSTAMP:20260422T024340
CREATED:20250929T145129Z
LAST-MODIFIED:20250929T145133Z
UID:207328-1760005800-1760009400@kaleideum.org
SUMMARY:Mom and Baby Yoga
DESCRIPTION:Bring a yoga mat and blanket for a wonderful way to enjoy your baby’s first year. Led by Novant Health instructor Angela Gallagher \n 
URL:https://kaleideum.org/programs/mom-and-baby-yoga-4/
LOCATION:Kaleideum\, 120 W 3rd Street\, Winston-Salem\, NC\, 27101\, United States
ATTACH;FMTTYPE=image/jpeg:https://kaleideum.org/wp-content/uploads/2025/03/Mom-and-Baby-Yoga.jpg
END:VEVENT
BEGIN:VEVENT
DTSTART;TZID=America/New_York:20240901T120000
DTEND;TZID=America/New_York:20240901T123000
DTSTAMP:20260422T024340
CREATED:20240821T183831Z
LAST-MODIFIED:20251229T155140Z
UID:201388-1725192000-1725193800@kaleideum.org
SUMMARY:Live Planetarium Show: Digital Dome
DESCRIPTION:Join us for a traditional planetarium show to explore the stars and planets with our expert guides. Each show is a unique voyage of discovery. The Digital Dome is located on the 2nd floor of Kaleideum. Tickets $3/members; $5 non-members
URL:https://kaleideum.org/programs/live-planetarium-show-digital-dome-3/
LOCATION:Kaleideum\, 120 W 3rd Street\, Winston-Salem\, NC\, 27101\, United States
CATEGORIES:Digital Dome
END:VEVENT
BEGIN:VEVENT
DTSTART;TZID=America/New_York:20251001T140000
DTEND;TZID=America/New_York:20251001T143000
DTSTAMP:20260422T024340
CREATED:20250916T144925Z
LAST-MODIFIED:20250916T144925Z
UID:207208-1759327200-1759329000@kaleideum.org
SUMMARY:Universe
DESCRIPTION:Embark on a fascinating journey through history as we explore humanity’s evolving understanding of the universe. Discover ancient astronomical sites and remarkable structures while taking a breathtaking glimpse into the cosmos.
URL:https://kaleideum.org/programs/universe/
LOCATION:Kaleideum\, 120 W 3rd Street\, Winston-Salem\, NC\, 27101\, United States
CATEGORIES:Digital Dome
END:VEVENT
BEGIN:VEVENT
DTSTART;TZID=America/New_York:20250814T150000
DTEND;TZID=America/New_York:20250814T153000
DTSTAMP:20260422T024340
CREATED:20250814T141312Z
LAST-MODIFIED:20251128T203120Z
UID:206920-1755183600-1755185400@kaleideum.org
SUMMARY:Live Planetarium Show: Digital Dome
DESCRIPTION:Join us for a traditional planetarium show to explore the stars and planets with our expert guides. Each show is a unique voyage of discovery. The Digital Dome is located on the 2nd floor of Kaleideum. Tickets $3/members; $5 non-members
URL:https://kaleideum.org/programs/live-planetarium-show-digital-dome-4/
LOCATION:Kaleideum\, 120 W 3rd Street\, Winston-Salem\, NC\, 27101\, United States
CATEGORIES:Digital Dome
END:VEVENT
BEGIN:VEVENT
DTSTART;TZID=America/New_York:20250704T103000
DTEND;TZID=America/New_York:20250704T113000
DTSTAMP:20260422T024340
CREATED:20250627T155533Z
LAST-MODIFIED:20251128T195011Z
UID:206395-1751625000-1751628600@kaleideum.org
SUMMARY:Preschool Discovery
DESCRIPTION:Play\, create\, and explore with us in this program that’s just for little hands and big minds.
URL:https://kaleideum.org/programs/preschool-discovery-27/
LOCATION:Kaleideum\, 120 W 3rd Street\, Winston-Salem\, NC\, 27101\, United States
END:VEVENT
BEGIN:VEVENT
DTSTART;TZID=America/New_York:20240501T113000
DTEND;TZID=America/New_York:20240501T120000
DTSTAMP:20260422T024340
CREATED:20240429T213828Z
LAST-MODIFIED:20250929T205441Z
UID:199064-1714563000-1714564800@kaleideum.org
SUMMARY:Animal Encounter
DESCRIPTION:Meet one of Kaleideum’s resident animals up close. Learn more about its behavior\, adaptations\, care\, and handling from our animal care staff.
URL:https://kaleideum.org/programs/animal-encounter-48/
LOCATION:120 West Third Street\, 120 West Third Street\, Winston-Salem\, NC\, 27101\, United States
END:VEVENT
BEGIN:VEVENT
DTSTART;TZID=America/New_York:20240901T120000
DTEND;TZID=America/New_York:20240901T123000
DTSTAMP:20260422T024340
CREATED:20240821T183831Z
LAST-MODIFIED:20251229T155140Z
UID:201388-1725192000-1725193800@kaleideum.org
SUMMARY:Live Planetarium Show: Digital Dome
DESCRIPTION:Join us for a traditional planetarium show to explore the stars and planets with our expert guides. Each show is a unique voyage of discovery. The Digital Dome is located on the 2nd floor of Kaleideum. Tickets $3/members; $5 non-members
URL:https://kaleideum.org/programs/live-planetarium-show-digital-dome-3/
LOCATION:Kaleideum\, 120 W 3rd Street\, Winston-Salem\, NC\, 27101\, United States
CATEGORIES:Digital Dome
END:VEVENT
BEGIN:VEVENT
DTSTART;TZID=America/New_York:20251001T140000
DTEND;TZID=America/New_York:20251001T143000
DTSTAMP:20260422T024340
CREATED:20250916T144925Z
LAST-MODIFIED:20250916T144925Z
UID:207208-1759327200-1759329000@kaleideum.org
SUMMARY:Universe
DESCRIPTION:Embark on a fascinating journey through history as we explore humanity’s evolving understanding of the universe. Discover ancient astronomical sites and remarkable structures while taking a breathtaking glimpse into the cosmos.
URL:https://kaleideum.org/programs/universe/
LOCATION:Kaleideum\, 120 W 3rd Street\, Winston-Salem\, NC\, 27101\, United States
CATEGORIES:Digital Dome
END:VEVENT
BEGIN:VEVENT
DTSTART;TZID=America/New_York:20250814T150000
DTEND;TZID=America/New_York:20250814T153000
DTSTAMP:20260422T024340
CREATED:20250814T141312Z
LAST-MODIFIED:20251128T203120Z
UID:206920-1755183600-1755185400@kaleideum.org
SUMMARY:Live Planetarium Show: Digital Dome
DESCRIPTION:Join us for a traditional planetarium show to explore the stars and planets with our expert guides. Each show is a unique voyage of discovery. The Digital Dome is located on the 2nd floor of Kaleideum. Tickets $3/members; $5 non-members
URL:https://kaleideum.org/programs/live-planetarium-show-digital-dome-4/
LOCATION:Kaleideum\, 120 W 3rd Street\, Winston-Salem\, NC\, 27101\, United States
CATEGORIES:Digital Dome
END:VEVENT
BEGIN:VEVENT
DTSTART;TZID=America/New_York:20251004T090000
DTEND;TZID=America/New_York:20251004T170000
DTSTAMP:20260422T024340
CREATED:20250929T204950Z
LAST-MODIFIED:20250929T204954Z
UID:207356-1759568400-1759597200@kaleideum.org
SUMMARY:Try It! Studio Maker Moments
DESCRIPTION:Try your hand at a maker activity in a space where creativity knows no bounds!  The recycled material wall will be open Tuesday mornings and Wednesday\, Thursday\, and Friday Afternoons. \n\nOctober 4-5: Puppet Motion Magic — Make puppets that move.\nOctober 11-12: Pumpkin Projectiles — Build a catapult to launch mini gourds.\nOctober 18-19: Mask Makers — Design Halloween costumes using recycled materials.\nOctober 25-26: Batty Builders — Create paper bats that flap their wings.
URL:https://kaleideum.org/programs/try-it-studio-maker-moments-12/
LOCATION:Kaleideum\, 120 W 3rd Street\, Winston-Salem\, NC\, 27101\, United States
ATTACH;FMTTYPE=image/png:https://kaleideum.org/wp-content/uploads/2024/07/3.png
END:VEVENT
BEGIN:VEVENT
DTSTART;TZID=America/New_York:20240501T113000
DTEND;TZID=America/New_York:20240501T120000
DTSTAMP:20260422T024340
CREATED:20240429T213828Z
LAST-MODIFIED:20250929T205441Z
UID:199064-1714563000-1714564800@kaleideum.org
SUMMARY:Animal Encounter
DESCRIPTION:Meet one of Kaleideum’s resident animals up close. Learn more about its behavior\, adaptations\, care\, and handling from our animal care staff.
URL:https://kaleideum.org/programs/animal-encounter-48/
LOCATION:120 West Third Street\, 120 West Third Street\, Winston-Salem\, NC\, 27101\, United States
END:VEVENT
BEGIN:VEVENT
DTSTART;TZID=America/New_York:20240901T120000
DTEND;TZID=America/New_York:20240901T123000
DTSTAMP:20260422T024340
CREATED:20240821T183831Z
LAST-MODIFIED:20251229T155140Z
UID:201388-1725192000-1725193800@kaleideum.org
SUMMARY:Live Planetarium Show: Digital Dome
DESCRIPTION:Join us for a traditional planetarium show to explore the stars and planets with our expert guides. Each show is a unique voyage of discovery. The Digital Dome is located on the 2nd floor of Kaleideum. Tickets $3/members; $5 non-members
URL:https://kaleideum.org/programs/live-planetarium-show-digital-dome-3/
LOCATION:Kaleideum\, 120 W 3rd Street\, Winston-Salem\, NC\, 27101\, United States
CATEGORIES:Digital Dome
END:VEVENT
BEGIN:VEVENT
DTSTART;TZID=America/New_York:20251001T140000
DTEND;TZID=America/New_York:20251001T143000
DTSTAMP:20260422T024340
CREATED:20250916T144925Z
LAST-MODIFIED:20250916T144925Z
UID:207208-1759327200-1759329000@kaleideum.org
SUMMARY:Universe
DESCRIPTION:Embark on a fascinating journey through history as we explore humanity’s evolving understanding of the universe. Discover ancient astronomical sites and remarkable structures while taking a breathtaking glimpse into the cosmos.
URL:https://kaleideum.org/programs/universe/
LOCATION:Kaleideum\, 120 W 3rd Street\, Winston-Salem\, NC\, 27101\, United States
CATEGORIES:Digital Dome
END:VEVENT
BEGIN:VEVENT
DTSTART;TZID=America/New_York:20250814T150000
DTEND;TZID=America/New_York:20250814T153000
DTSTAMP:20260422T024340
CREATED:20250814T141312Z
LAST-MODIFIED:20251128T203120Z
UID:206920-1755183600-1755185400@kaleideum.org
SUMMARY:Live Planetarium Show: Digital Dome
DESCRIPTION:Join us for a traditional planetarium show to explore the stars and planets with our expert guides. Each show is a unique voyage of discovery. The Digital Dome is located on the 2nd floor of Kaleideum. Tickets $3/members; $5 non-members
URL:https://kaleideum.org/programs/live-planetarium-show-digital-dome-4/
LOCATION:Kaleideum\, 120 W 3rd Street\, Winston-Salem\, NC\, 27101\, United States
CATEGORIES:Digital Dome
END:VEVENT
BEGIN:VEVENT
DTSTART;TZID=America/New_York:20251011T183000
DTEND;TZID=America/New_York:20251011T213000
DTSTAMP:20260422T024340
CREATED:20250917T211420Z
LAST-MODIFIED:20251010T195010Z
UID:207256-1760207400-1760218200@kaleideum.org
SUMMARY:Kaleideum After Dark: BYOP
DESCRIPTION:Bring Your Own Pumpkin and let your creativity shine at this fall-themed 21+ night out! Carve your perfect jack-o-lantern\, put your engineering skills to the test by building a mini catapult\, and sit down with Camel City Mahjong for a lively learn-and-play session to discover why this timeless game is having such a big moment. \n🎟️ Get your tickets early and save! \n$20 online | $25 at the door — includes two drink tickets for beer\, wine\, or a non-alcoholic beverage. Grab dinner from the onsite food truck or enjoy 20% off at Hungry Palate Bar & Grill when you show your Kaleideum After Dark ticket! \nSponsored by Mast General Store.
URL:https://kaleideum.org/programs/kaleideum-after-dark-byop/
LOCATION:Kaleideum\, 120 W 3rd Street\, Winston-Salem\, NC\, 27101\, United States
ATTACH;FMTTYPE=image/jpeg:https://kaleideum.org/wp-content/uploads/2025/09/KAL-AfterDark-2510-Square-1080x1080-1.jpg
END:VEVENT
BEGIN:VEVENT
DTSTART;TZID=America/New_York:20251004T090000
DTEND;TZID=America/New_York:20251004T170000
DTSTAMP:20260422T024340
CREATED:20250929T204950Z
LAST-MODIFIED:20250929T204954Z
UID:207356-1759568400-1759597200@kaleideum.org
SUMMARY:Try It! Studio Maker Moments
DESCRIPTION:Try your hand at a maker activity in a space where creativity knows no bounds!  The recycled material wall will be open Tuesday mornings and Wednesday\, Thursday\, and Friday Afternoons. \n\nOctober 4-5: Puppet Motion Magic — Make puppets that move.\nOctober 11-12: Pumpkin Projectiles — Build a catapult to launch mini gourds.\nOctober 18-19: Mask Makers — Design Halloween costumes using recycled materials.\nOctober 25-26: Batty Builders — Create paper bats that flap their wings.
URL:https://kaleideum.org/programs/try-it-studio-maker-moments-12/
LOCATION:Kaleideum\, 120 W 3rd Street\, Winston-Salem\, NC\, 27101\, United States
ATTACH;FMTTYPE=image/png:https://kaleideum.org/wp-content/uploads/2024/07/3.png
END:VEVENT
BEGIN:VEVENT
DTSTART;TZID=America/New_York:20240901T120000
DTEND;TZID=America/New_York:20240901T123000
DTSTAMP:20260422T024340
CREATED:20240821T183831Z
LAST-MODIFIED:20251229T155140Z
UID:201388-1725192000-1725193800@kaleideum.org
SUMMARY:Live Planetarium Show: Digital Dome
DESCRIPTION:Join us for a traditional planetarium show to explore the stars and planets with our expert guides. Each show is a unique voyage of discovery. The Digital Dome is located on the 2nd floor of Kaleideum. Tickets $3/members; $5 non-members
URL:https://kaleideum.org/programs/live-planetarium-show-digital-dome-3/
LOCATION:Kaleideum\, 120 W 3rd Street\, Winston-Salem\, NC\, 27101\, United States
CATEGORIES:Digital Dome
END:VEVENT
BEGIN:VEVENT
DTSTART;TZID=America/New_York:20251001T140000
DTEND;TZID=America/New_York:20251001T143000
DTSTAMP:20260422T024340
CREATED:20250916T144925Z
LAST-MODIFIED:20250916T144925Z
UID:207208-1759327200-1759329000@kaleideum.org
SUMMARY:Universe
DESCRIPTION:Embark on a fascinating journey through history as we explore humanity’s evolving understanding of the universe. Discover ancient astronomical sites and remarkable structures while taking a breathtaking glimpse into the cosmos.
URL:https://kaleideum.org/programs/universe/
LOCATION:Kaleideum\, 120 W 3rd Street\, Winston-Salem\, NC\, 27101\, United States
CATEGORIES:Digital Dome
END:VEVENT
BEGIN:VEVENT
DTSTART;TZID=America/New_York:20250814T150000
DTEND;TZID=America/New_York:20250814T153000
DTSTAMP:20260422T024340
CREATED:20250814T141312Z
LAST-MODIFIED:20251128T203120Z
UID:206920-1755183600-1755185400@kaleideum.org
SUMMARY:Live Planetarium Show: Digital Dome
DESCRIPTION:Join us for a traditional planetarium show to explore the stars and planets with our expert guides. Each show is a unique voyage of discovery. The Digital Dome is located on the 2nd floor of Kaleideum. Tickets $3/members; $5 non-members
URL:https://kaleideum.org/programs/live-planetarium-show-digital-dome-4/
LOCATION:Kaleideum\, 120 W 3rd Street\, Winston-Salem\, NC\, 27101\, United States
CATEGORIES:Digital Dome
END:VEVENT
BEGIN:VEVENT
DTSTART;TZID=America/New_York:20251013T090000
DTEND;TZID=America/New_York:20251013T160000
DTSTAMP:20260422T024340
CREATED:20250929T153355Z
LAST-MODIFIED:20250929T172520Z
UID:207348-1760346000-1760371200@kaleideum.org
SUMMARY:Camp Kaleideum: Fall Edition
DESCRIPTION:School’s out\, so Camp Kaleideum is IN! Grades K-1 and 2-5. $50 per day for members/ $60 per day for non-members \nMonster Mania\nMonday\, October 13\, 9 am-4 pm  \nGet ready for a monstrously fun day! Kids will unfreeze a haunted hand\, play zombie tag and create their own mini monsters \nPotion Commotion\nTuesday\, October 14\, 9 am-4 pm \nStir up some fun and let the magic begin! Create your own magic potions and wild concoctions\, make a custom slime and experiment with fizzy\, bubbling reactions. \nCLICK HERE TO REGISTER
URL:https://kaleideum.org/programs/camp-kaleideum-fall-edition/
LOCATION:Kaleideum\, 120 W 3rd Street\, Winston-Salem\, NC\, 27101\, United States
ATTACH;FMTTYPE=image/jpeg:https://kaleideum.org/wp-content/uploads/2025/09/image000002.jpg
END:VEVENT
BEGIN:VEVENT
DTSTART;TZID=America/New_York:20250203T103000
DTEND;TZID=America/New_York:20250203T110000
DTSTAMP:20260422T024340
CREATED:20250131T220714Z
LAST-MODIFIED:20250929T205155Z
UID:204179-1738578600-1738580400@kaleideum.org
SUMMARY:Songs & Stories
DESCRIPTION:Imaginations come alive when a Kaleideum educator reads a story and sings a song.
URL:https://kaleideum.org/programs/songs-stories/
LOCATION:Kaleideum\, 120 W 3rd Street\, Winston-Salem\, NC\, 27101\, United States
END:VEVENT
BEGIN:VEVENT
DTSTART;TZID=America/New_York:20240501T113000
DTEND;TZID=America/New_York:20240501T120000
DTSTAMP:20260422T024340
CREATED:20240429T213828Z
LAST-MODIFIED:20250929T205441Z
UID:199064-1714563000-1714564800@kaleideum.org
SUMMARY:Animal Encounter
DESCRIPTION:Meet one of Kaleideum’s resident animals up close. Learn more about its behavior\, adaptations\, care\, and handling from our animal care staff.
URL:https://kaleideum.org/programs/animal-encounter-48/
LOCATION:120 West Third Street\, 120 West Third Street\, Winston-Salem\, NC\, 27101\, United States
END:VEVENT
BEGIN:VEVENT
DTSTART;TZID=America/New_York:20240901T120000
DTEND;TZID=America/New_York:20240901T123000
DTSTAMP:20260422T024340
CREATED:20240821T183831Z
LAST-MODIFIED:20251229T155140Z
UID:201388-1725192000-1725193800@kaleideum.org
SUMMARY:Live Planetarium Show: Digital Dome
DESCRIPTION:Join us for a traditional planetarium show to explore the stars and planets with our expert guides. Each show is a unique voyage of discovery. The Digital Dome is located on the 2nd floor of Kaleideum. Tickets $3/members; $5 non-members
URL:https://kaleideum.org/programs/live-planetarium-show-digital-dome-3/
LOCATION:Kaleideum\, 120 W 3rd Street\, Winston-Salem\, NC\, 27101\, United States
CATEGORIES:Digital Dome
END:VEVENT
END:VCALENDAR